BEGIN:VCALENDAR
VERSION:2.0
PRODID:gruene-uetersen.de
METHOD:PUBLISH
BEGIN:VTIMEZONE
TZID:Europe/Berlin
X-LIC-LOCATION:Europe/Berlin
BEGIN:DAYLIGHT
TZOFFSETFROM:+0100
TZOFFSETTO:+0200
TZNAME:CEST
DTSTART:19700329T020000
RRULE:FREQ=YEARLY;INTERVAL=1;BYDAY=-1SU;BYMONTH=3
END:DAYLIGHT
BEGIN:STANDARD
TZOFFSETFROM:+0200
TZOFFSETTO:+0100
TZNAME:CET
DTSTART:19701025T030000
RRULE:FREQ=YEARLY;INTERVAL=1;BYDAY=-1SU;BYMONTH=10
END:STANDARD
END:VTIMEZONE
BEGIN:VEVENT
UID:7b17d11427ba8dee82eba3163b7d8862@gruene-uetersen.de
URL;VALUE=URI:https://gruene-uetersen.de/termine/fraktionssitzung-8/
LOCATION:Hybrid in Präsenz (Ratssaal, Rathaus Wassermühlenstraße 7, Ue
 tersen) und digital per BigBlueButton. 
SUMMARY:Fraktionssitzung
DESCRIPTION;ALTREP="data:text/html,%3Cp%3EEinfach%20mal%20dabei%20sein%20
 und%20reinh%C3%B6ren%20oder%20gerne%20gleich%20mitmischen%3A%20Das%20geht
 %20bei%20unseren%20%C3%B6ffentlichen%20Fraktionssitzungen%2C%20die%20w%C3
 %B6chentlich%20jeden%20Montag%20um%2019%20Uhr%20hybrid%20stattfinden.%20A
 usgenommen%20sind%20nur%20Montage%2C%20an%20denen%20die%20Ratsversammlung
 %20stattfindet%2C%20Feiertage%20oder%20in%20den%20SH-Schulferien.%3Cbr%20
 %2F%3E%0A%3Cbr%20%2F%3E%0AWir%20besprechen%20aktuelle%20Ausschuss-Sitzung
 en%2C%20Ideen%20f%C3%BCr%20eigene%20Antr%C3%A4ge%2C%20Termine%20f%C3%BCr%
 20Veranstaltungen%20und%20Strategien%20f%C3%BCr%20langfristige%20Projekte
 %20-%20immer%20vor%20dem%20Hintergrund%20unserer%20im%20Kommunalwahl-Prog
 ramm%20festgesteckten%20Ziele%3A%3Cbr%20%2F%3E%0A%3Cbr%20%2F%3E%0A%F0%9F%
 91%89%F0%9F%8F%BD%20https%3A%2F%2Fuetersen.gruene.sh%2Fkommunalwahl2023-p
 rogramm%2F%3Cbr%20%2F%3E%0A%3Cbr%20%2F%3E%0AWer%20bei%20einer%20%C3%B6ffe
 ntlichen%20Fraktionssitzungen%20dabei%20sein%20m%C3%B6chte%2C%20bitten%20
 wir%20zur%20besseren%20Planung%20um%20eine%20kurze%20Info%20vorab%20an%20
 info%40gruene-uetersen.de.%20%3C%2Fp%3E":Einfach mal dabei sein und reinh
 ören oder gerne gleich mitmischen: Das geht bei unseren öffentlichen Fr
 aktionssitzungen\, die wöchentlich jeden Montag um 19 Uhr hybrid stattfi
 nden. Ausgenommen sind nur Montage\, an denen die Ratsversammlung stattfi
 ndet\, Feiertage oder in den SH-Schulferien.\n\nWir besprechen aktuelle A
 usschuss-Sitzungen\, Ideen für eigene Anträge\, Termine für Veranstalt
 ungen und Strategien für langfristige Projekte - immer vor dem Hintergru
 nd unserer im Kommunalwahl-Programm festgesteckten Ziele:\n\n👉🏽 htt
 ps://uetersen.gruene.sh/kommunalwahl2023-programm/\n\nWer bei einer öffe
 ntlichen Fraktionssitzungen dabei sein möchte\, bitten wir zur besseren 
 Planung um eine kurze Info vorab an info@gruene-uetersen.de.
CLASS:PUBLIC
DTSTART;TZID=Europe/Berlin:20260525T190000
DTEND;TZID=Europe/Berlin:20260525T210000
DTSTAMP:20260421T194105
END:VEVENT
END:VCALENDAR